BEGIN:VCALENDAR
VERSION:2.0
PRODID:-//hacksw/handcal//NONSGML v1.0//EN
BEGIN:VEVENT
SUMMARY:FINALE JEUNES
UID:4aa2fcc5-e849-4ef8-8cf1-56605da6640e
DTSTART:20260523T060000Z
DTEND:20260525T200000Z
LOCATION:Localisation 66 RUE DU MARECHEL JUIN 59130 LAMBERSART
CATEGORIES:Sportif
STATUS:
URL;VALUE=URI:https://esperance78440.sportsregions.fr/evenements/2026/05/23/finale-jeunes-2440117
END:VEVENT
END:VCALENDAR
