BEGIN:VCALENDAR
VERSION:2.0
PRODID:-//hacksw/handcal//NONSGML v1.0//EN
BEGIN:VEVENT
SUMMARY:Competition Regionale
UID:74b024f6-4058-4973-9328-c6312ddb8da0
DTSTART:20260410T220000Z
DTEND:20260412T220000Z
LOCATION:Localisation 128 rue de l ormetteau 95610 Eragny
CATEGORIES:Sportif
STATUS:
URL;VALUE=URI:https://esperance78440.sportsregions.fr/evenements/2026/04/11/competition-regionale-2434230
END:VEVENT
END:VCALENDAR
