BEGIN:VCALENDAR
VERSION:2.0
PRODID:-//hacksw/handcal//NONSGML v1.0//EN
BEGIN:VEVENT
SUMMARY:Competition Regionale
UID:6ce48781-82c4-491f-9074-1a1b34c5d8df
DTSTART:20260327T230000Z
DTEND:20260329T230000Z
LOCATION:Localisation 207 Rue Aristide Briand 78700 Conflans
CATEGORIES:Sportif
STATUS:
URL;VALUE=URI:https://esperance78440.sportsregions.fr/evenements/2026/03/28/competition-regionale-2434226
END:VEVENT
END:VCALENDAR
